BEGIN:VCALENDAR
VERSION:2.0
PRODID:-//MGMT - ECPv5.16.1.1//NONSGML v1.0//EN
CALSCALE:GREGORIAN
METHOD:PUBLISH
X-WR-CALNAME:MGMT
X-ORIGINAL-URL:https://mgmt.iisc.ac.in
X-WR-CALDESC:Events for MGMT
REFRESH-INTERVAL;VALUE=DURATION:PT1H
X-Robots-Tag:noindex
X-PUBLISHED-TTL:PT1H
BEGIN:VTIMEZONE
TZID:Asia/Kolkata
BEGIN:STANDARD
TZOFFSETFROM:+0530
TZOFFSETTO:+0530
TZNAME:IST
DTSTART:20220101T000000
END:STANDARD
END:VTIMEZONE
BEGIN:VEVENT
DTSTART;TZID=Asia/Kolkata:20220101T080000
DTEND;TZID=Asia/Kolkata:20220101T170000
DTSTAMP:20260423T234742
CREATED:20211220T130220Z
LAST-MODIFIED:20211220T152438Z
UID:863-1641024000-1641056400@mgmt.iisc.ac.in
SUMMARY:Eighth International Conference on Business Analytics and Intelligence
DESCRIPTION:Operational Research Society of India Bangalore Chapter (ORSI-BC)\, Department of Management Studies\, Indian Institute of Science\, Bangalore and Analytics Society of India (ASI)\, Indian Institute of Management\, Bangalore are happy to announce the 8th International Conference on Business Analytics and Intelligence (ICBAI) which will be held during 20-22\, December 2021\, at J.N. Tata Auditorium\, Indian Institute of Science\, Bangalore-560012. \nThe aim of the ICBAI 2021 is to create a platform and facilitate knowledge sharing on advanced data analysis\, business analytics\, big data and business intelligence for distinguished academicians\, practitioners and researchers from academia and industry. \nThe conference will also become a venue to review insights and novel business applications of tools and techniques of advanced data analysis\, business analytics and business intelligence among academicians and practitioners. \nWe invite papers from academicians and practitioners on the listed conference topics and related areas. Applications\, case studies\, review and discussion papers on these topics and related areas are also welcome. \nFor more Information\, contact \nDr. M. Mathirajan\, FORSI\nVice President of ORSI\nVice President of ASI\nConference Secretary of ICBAI 2021\nEmail : icbai2021@gmail.com / orsibc2021@gmail.com\nMobile : 0091-9945668905.
URL:https://mgmt.iisc.ac.in/event/eighth-international-conference-on-business-analytics-and-intelligence/
LOCATION:Online
CATEGORIES:News
END:VEVENT
END:VCALENDAR